BEGIN:VCALENDAR
VERSION:2.0
PRODID:-//West Suburban Alano - ECPv6.15.20//NONSGML v1.0//EN
CALSCALE:GREGORIAN
METHOD:PUBLISH
X-WR-CALNAME:West Suburban Alano
X-ORIGINAL-URL:https://westsuburbanalano.com
X-WR-CALDESC:Events for West Suburban Alano
REFRESH-INTERVAL;VALUE=DURATION:PT1H
X-Robots-Tag:noindex
X-PUBLISHED-TTL:PT1H
BEGIN:VTIMEZONE
TZID:UTC
BEGIN:STANDARD
TZOFFSETFROM:+0000
TZOFFSETTO:+0000
TZNAME:UTC
DTSTART:20210101T000000
END:STANDARD
END:VTIMEZONE
BEGIN:VEVENT
DTSTART;TZID=UTC:20220527T180000
DTEND;TZID=UTC:20220529T120000
DTSTAMP:20260421T010045
CREATED:20220511T114919Z
LAST-MODIFIED:20220512T124048Z
UID:10000006-1653674400-1653825600@westsuburbanalano.com
SUMMARY:Gopher State Roundup XLVII
DESCRIPTION:
URL:https://westsuburbanalano.com/event/gopher-state-roundup-xlvii/
LOCATION:Double Tree Hotel\, 7800 Normandale Boulevard\, Bloomington\, MN\, 55439\, United States
ATTACH;FMTTYPE=image/png:https://westsuburbanalano.com/wp-content/uploads/2022/05/Goper-State-2022.png
END:VEVENT
END:VCALENDAR